BEGIN:VCALENDAR
VERSION:2.0
PRODID:-//Peregrine Travel Centre - ECPv4.9.6//NONSGML v1.0//EN
CALSCALE:GREGORIAN
METHOD:PUBLISH
X-WR-CALNAME:Peregrine Travel Centre
X-ORIGINAL-URL:https://www.peregrinetraveladelaide.com.au
X-WR-CALDESC:Events for Peregrine Travel Centre
BEGIN:VTIMEZONE
TZID:"Australia/Adelaide"
BEGIN:STANDARD
TZOFFSETFROM:+1030
TZOFFSETTO:+0930
TZNAME:ACST
DTSTART:20190406T163000
END:STANDARD
BEGIN:DAYLIGHT
TZOFFSETFROM:+0930
TZOFFSETTO:+1030
TZNAME:ACDT
DTSTART:20191005T163000
END:DAYLIGHT
END:VTIMEZONE
BEGIN:VEVENT
DTSTART;TZID="Australia/Adelaide":20190214T100000
DTEND;TZID="Australia/Adelaide":20190214T113000
DTSTAMP:20260422T084828
CREATED:20181210T040405Z
LAST-MODIFIED:20181210T040545Z
UID:513858-1550138400-1550143800@www.peregrinetraveladelaide.com.au
SUMMARY:Africa ‘The Big 3’ – Botswana\, Zimbabwe & Namibia
DESCRIPTION:Africa – a continent so vast and diverse\, there is always more to be explored! Whether you are a first-time visitor or wanting to return to experience something different\, this talk will cover three incredible regions to suit all travellers! \nTammy Chaplin is the owner of Remarkable Africa\, having lived and worked in the safari industry in Africa for over 15 years she has an extensive knowledge of travelling throughout and valuable insight into how to make the most of your holiday in Africa. \nIn this session\, Tammy will talk about her ‘Big 3’ for 2019. Botswana\, a land of contrasts with the dry plains of the desert and the mix of streams\, rivers and wetlands making it a true experience of the wilderness and wildlife of Africa. Namibia\, a land with spectacular desert landscapes\, unique wildlife and a vast coastline is a great destination for those returning to Africa and wanting to discover a new side to the Africa they already know. Finally Zimbabwe\, home to the iconic Victoria Falls\, one of the natural wonders of the world and some incredible wildlife parks to get a taste of the fantastic animals that call this country home. \nWhether you combine the three destinations together for one epic adventure or break them up into smaller\, in-depth journeys we promise you will not be disappointed! Come along to our morning tea to find out more about travel to these incredible parts of Africa\, there will be some exclusive offers for attendees and the opportunity to speak with Tammy and our experienced consultants about travel to Africa. \nThere will be an EXCLUSIVE OFFER on the day for all attendees! \nWhen: Thursday 14 February\nTime: 10am for a 10:15 start\nWhere: Peregrine Travel Centre SA\, 142 Gawler Place\, Adelaide SA 5000 \nAlthough this is a free event\, registration is essential. REGISTER HERE \n
URL:https://www.peregrinetraveladelaide.com.au/event/africa-the-big-3-botswana-zimbabwe-namibia/
LOCATION:Peregrine Travel Centre Adelaide\, 142 Gawler Place\, ADELAIDE\, SA\, 5000\, Australia
ATTACH;FMTTYPE=image/jpeg:https://www.peregrinetraveladelaide.com.au/wp-content/uploads/2018/12/Website_header.jpg
END:VEVENT
END:VCALENDAR