BEGIN:VCALENDAR
VERSION:2.0
PRODID:-//Peregrine Travel Centre - ECPv4.9.6//NONSGML v1.0//EN
CALSCALE:GREGORIAN
METHOD:PUBLISH
X-WR-CALNAME:Peregrine Travel Centre
X-ORIGINAL-URL:https://www.peregrinetraveladelaide.com.au
X-WR-CALDESC:Events for Peregrine Travel Centre
BEGIN:VTIMEZONE
TZID:"Australia/Adelaide"
BEGIN:STANDARD
TZOFFSETFROM:+1030
TZOFFSETTO:+0930
TZNAME:ACST
DTSTART:20150404T163000
END:STANDARD
BEGIN:DAYLIGHT
TZOFFSETFROM:+0930
TZOFFSETTO:+1030
TZNAME:ACDT
DTSTART:20151003T163000
END:DAYLIGHT
END:VTIMEZONE
BEGIN:VEVENT
DTSTART;TZID="Australia/Adelaide":20150916T180000
DTEND;TZID="Australia/Adelaide":20150916T190000
DTSTAMP:20260419T205100
CREATED:20150817T025236Z
LAST-MODIFIED:20150817T053236Z
UID:10204-1442426400-1442430000@www.peregrinetraveladelaide.com.au
SUMMARY:African Wildlife Travel Information Evening presented by Dr Carla Litchfield.
DESCRIPTION:Presenter: Dr Carla Litchfield.  \nDiscover the best way to enjoy Africa with Peregrine Travel Centre. Join Dr Carla Litchfield\, (Ph.D. in Animal Behaviour) as she presents the best ways to experience African Wildlife.  \nDr Carla Litchfield has led tours for Peregrine Travel to Uganda (chimps & gorillas)\, Tanzania (chimps at Dr Jane Goodall’s site at Gombe)\, and Borneo (orangutans) to visit responsible tourism projects and research/conservation sites with proceeds going to the conservation projects we visit.  \nMake sure you RSVP to this event as seats are limited! \n
URL:https://www.peregrinetraveladelaide.com.au/event/african-wildlife-travel-information-evening-presented-by-dr-carla-litchfield/
LOCATION:Peregrine Travel Centre Adelaide\, 192 Rundle Street\, Adelaide\, SA\, 5000\, AU
ATTACH;FMTTYPE=image/jpeg:https://www.peregrinetraveladelaide.com.au/wp-content/uploads/2015/08/africa-blog-ft1.jpg
END:VEVENT
END:VCALENDAR