BEGIN:VCALENDAR
VERSION:2.0
PRODID:-//Peregrine Travel Centre - ECPv4.9.6//NONSGML v1.0//EN
CALSCALE:GREGORIAN
METHOD:PUBLISH
X-WR-CALNAME:Peregrine Travel Centre
X-ORIGINAL-URL:https://www.peregrinetraveladelaide.com.au
X-WR-CALDESC:Events for Peregrine Travel Centre
BEGIN:VTIMEZONE
TZID:"Australia/Adelaide"
BEGIN:STANDARD
TZOFFSETFROM:+1030
TZOFFSETTO:+0930
TZNAME:ACST
DTSTART:20160402T163000
END:STANDARD
BEGIN:DAYLIGHT
TZOFFSETFROM:+0930
TZOFFSETTO:+1030
TZNAME:ACDT
DTSTART:20161001T163000
END:DAYLIGHT
END:VTIMEZONE
BEGIN:VEVENT
DTSTART;TZID="Australia/Adelaide":20160913T180000
DTEND;TZID="Australia/Adelaide":20160913T190000
DTSTAMP:20260421T175311
CREATED:20160818T054155Z
LAST-MODIFIED:20160818T054244Z
UID:70376-1473789600-1473793200@www.peregrinetraveladelaide.com.au
SUMMARY:Free Africa Travel Information Night
DESCRIPTION:Sue Harms Sales Manager for African Travel Specialists presents the highlights of travelling through East and Southern Africa as a Tailor Made experience! \nFrom luxury lodges and resorts to bush camps and tents in the most spectacular national parks in the world\, Peregrine Travel and Africa Travel Specialists can put together a trip that suits the way you want to travel\, as well as your budget\, and opens your eyes to what Africa has to offer – stunning natural beauty\, magnificant animals\, cultural interest\, adventure and hospitality. \n
URL:https://www.peregrinetraveladelaide.com.au/event/free-africa-travel-information-night/
LOCATION:Peregrine Travel Centre Adelaide\, 192 Rundle Street\, Adelaide\, SA\, 5000\, AU
ATTACH;FMTTYPE=image/jpeg:https://www.peregrinetraveladelaide.com.au/wp-content/uploads/2016/08/leopard-fpr-ATS-night.jpg
END:VEVENT
END:VCALENDAR