BEGIN:VCALENDAR
VERSION:2.0
PRODID:-//Peregrine Travel Centre - ECPv4.9.6//NONSGML v1.0//EN
CALSCALE:GREGORIAN
METHOD:PUBLISH
X-WR-CALNAME:Peregrine Travel Centre
X-ORIGINAL-URL:https://www.peregrinetraveladelaide.com.au
X-WR-CALDESC:Events for Peregrine Travel Centre
BEGIN:VTIMEZONE
TZID:"Australia/Adelaide"
BEGIN:STANDARD
TZOFFSETFROM:+1030
TZOFFSETTO:+0930
TZNAME:ACST
DTSTART:20160402T163000
END:STANDARD
BEGIN:DAYLIGHT
TZOFFSETFROM:+0930
TZOFFSETTO:+1030
TZNAME:ACDT
DTSTART:20161001T163000
END:DAYLIGHT
END:VTIMEZONE
BEGIN:VEVENT
DTSTART;TZID="Australia/Adelaide":20161110T180000
DTEND;TZID="Australia/Adelaide":20161110T190000
DTSTAMP:20260422T115338
CREATED:20161012T053337Z
LAST-MODIFIED:20161012T053417Z
UID:154764-1478800800-1478804400@www.peregrinetraveladelaide.com.au
SUMMARY:Free Europe Travel Information Night
DESCRIPTION:Join Peregrine Travel Centre and Adam from Bunnik Tours for an informative presentation on travelling in Europe with Bunnik. \nAbout Bunnik Tours: \nOur maximum group size is 20 because we believe small groups create a better holiday experience. Our tours are more personal allowing you to spend more time with our local guides\, spending less time waiting and more time enjoying your holiday. Come and hear all about Bunnik Tours Small Group touring options throughout Europe\, South America and Central America. \n
URL:https://www.peregrinetraveladelaide.com.au/event/free-europe-travel-information-night/
LOCATION:Peregrine Travel Centre Adelaide\, 192 Rundle Street\, Adelaide\, SA\, 5000\, AU
ATTACH;FMTTYPE=image/jpeg:https://www.peregrinetraveladelaide.com.au/wp-content/uploads/2016/10/27381757574-23666437.jpg
END:VEVENT
END:VCALENDAR