BEGIN:VCALENDAR
VERSION:2.0
PRODID:-//Peregrine Travel Centre - ECPv4.9.6//NONSGML v1.0//EN
CALSCALE:GREGORIAN
METHOD:PUBLISH
X-WR-CALNAME:Peregrine Travel Centre
X-ORIGINAL-URL:https://www.peregrinetraveladelaide.com.au
X-WR-CALDESC:Events for Peregrine Travel Centre
BEGIN:VTIMEZONE
TZID:"Australia/Adelaide"
BEGIN:STANDARD
TZOFFSETFROM:+1030
TZOFFSETTO:+0930
TZNAME:ACST
DTSTART:20160402T163000
END:STANDARD
BEGIN:DAYLIGHT
TZOFFSETFROM:+0930
TZOFFSETTO:+1030
TZNAME:ACDT
DTSTART:20161001T163000
END:DAYLIGHT
END:VTIMEZONE
BEGIN:VEVENT
DTSTART;TZID="Australia/Adelaide":20160816T110000
DTEND;TZID="Australia/Adelaide":20160816T120000
DTSTAMP:20260421T113805
CREATED:20160713T014610Z
LAST-MODIFIED:20160803T044442Z
UID:63142-1471345200-1471348800@www.peregrinetraveladelaide.com.au
SUMMARY:Free Polar Travel Information Morning Tea
DESCRIPTION:\n\n\nJoin Expedition Leaders Annie Inglis and David (Woody) Wood for an insight into what it’s like to travel in the Polar regions.  Annie and Woody have over a hundred Polar voyages between them and have been leading expeditions for Peregrine and Quark Expeditions for the last 9 years. Come and explore this spectacular landscape of rock and ice\, home to a rich range of breath-taking wildlife. \nPolar trips take you to the most remote parts of our world – a terrain ruled entirely by nature. See walruses\, penguins and polar bears playing in untouched surrounds\, and the magnificent natural wonders of fjords\, icebergs and the aurora. \n\n\nOur tours to Antarctica take you from cruise ship to small boat and then onto land where few – if any – have trodden before. Trips through the Arctic are no easy feat\, made possible by the nuclear-powered icebreaker that is often the highlight of many trips. The air may be cold and the environment harsh\, but after getting your fill of the sights and sounds you’ll have our luxury ships to retreat to. With well-trained and responsible leaders\, your polar ventures will be informative\, exhilarating and most of all\, life-changing. \n\n\n  \n\n\n\n
URL:https://www.peregrinetraveladelaide.com.au/event/free-polar-travel-information-morning-tea/
LOCATION:Majestic Roof Garden Hotel\, 55 Frome Street\, Adelaide\, SA\, 5000\, AU
ATTACH;FMTTYPE=image/jpeg:https://www.peregrinetraveladelaide.com.au/wp-content/uploads/2016/07/26554375853-22493888.jpg
END:VEVENT
END:VCALENDAR