BEGIN:VCALENDAR
VERSION:2.0
PRODID:-//Peregrine Travel Centre - ECPv4.9.6//NONSGML v1.0//EN
CALSCALE:GREGORIAN
METHOD:PUBLISH
X-WR-CALNAME:Peregrine Travel Centre
X-ORIGINAL-URL:https://www.peregrinetraveladelaide.com.au
X-WR-CALDESC:Events for Peregrine Travel Centre
BEGIN:VTIMEZONE
TZID:"Australia/Adelaide"
BEGIN:STANDARD
TZOFFSETFROM:+1030
TZOFFSETTO:+0930
TZNAME:ACST
DTSTART:20160402T163000
END:STANDARD
BEGIN:DAYLIGHT
TZOFFSETFROM:+0930
TZOFFSETTO:+1030
TZNAME:ACDT
DTSTART:20161001T163000
END:DAYLIGHT
END:VTIMEZONE
BEGIN:VEVENT
DTSTART;TZID="Australia/Adelaide":20160802T180000
DTEND;TZID="Australia/Adelaide":20160802T190000
DTSTAMP:20260421T081741
CREATED:20160615T025200Z
LAST-MODIFIED:20160719T070128Z
UID:58390-1470160800-1470164400@www.peregrinetraveladelaide.com.au
SUMMARY:Free Nepal Tours & Travel Information Night
DESCRIPTION:Join Peregrine Travel Centre Founder Geoff Simpson for an informative presentation on travelling in Nepal. Imagine flying in a private jet\, high above the mountains and heading straight for the colossal peaks of Mt Everest for an Everest base camp trek. Picture yourself in the midst of Kathmandu’s temple district\, standing before a glittering shrine and breathing in the holy air. And visualize yourself in the midst of the Chitwan National Park\, surrounded by singing trees as you watch endangered rhino. These wonders and more await you in Nepal. \n\n\n\nA land of geographic icons\, historic adventurers and monumental landscapes\, Nepal sits in the shadow of Everest but shines with myriad treasures. National parks hiding rare wildlife\, vibrant cities filled with art and culture and simple villages preserving an ancient way of life make Nepal a constant source of inspiration for curious globetrotters in search of enlightening experiences. \nFrom challenging treks to cultural wonders\, there is so much to experience in Nepal. \n\n\nGeoff Simpson and Neal Teasdale will also be presenting their new escorted group tours to Nepal in 2017. Come along and find out how you can join these special escorted departures! \n\n\n\n\n\n
URL:https://www.peregrinetraveladelaide.com.au/event/free-trekking-in-nepal-information-night/
LOCATION:Peregrine Travel Centre Adelaide\, 192 Rundle Street\, Adelaide\, SA\, 5000\, AU
ATTACH;FMTTYPE=image/jpeg:https://www.peregrinetraveladelaide.com.au/wp-content/uploads/2016/06/nepal_base_camp_treck_15.jpg
END:VEVENT
END:VCALENDAR