BEGIN:VCALENDAR
VERSION:2.0
PRODID:-//Peregrine Travel Centre - ECPv4.9.6//NONSGML v1.0//EN
CALSCALE:GREGORIAN
METHOD:PUBLISH
X-WR-CALNAME:Peregrine Travel Centre
X-ORIGINAL-URL:https://www.peregrinetraveladelaide.com.au
X-WR-CALDESC:Events for Peregrine Travel Centre
BEGIN:VTIMEZONE
TZID:"Australia/Adelaide"
BEGIN:STANDARD
TZOFFSETFROM:+1030
TZOFFSETTO:+0930
TZNAME:ACST
DTSTART:20160402T163000
END:STANDARD
BEGIN:DAYLIGHT
TZOFFSETFROM:+0930
TZOFFSETTO:+1030
TZNAME:ACDT
DTSTART:20161001T163000
END:DAYLIGHT
END:VTIMEZONE
BEGIN:VEVENT
DTSTART;TZID="Australia/Adelaide":20160609T180000
DTEND;TZID="Australia/Adelaide":20160609T190000
DTSTAMP:20260421T121957
CREATED:20160518T013001Z
LAST-MODIFIED:20160518T013137Z
UID:53089-1465495200-1465498800@www.peregrinetraveladelaide.com.au
SUMMARY:India and Sri Lanka Evening
DESCRIPTION:Join Destination Manager Ryan from Peregrine Melbourne as he shares his insights into India and Sri Lanka.\nExperience big cities\, amazing palaces and forts and rural life that is the way it has been for centuries\, extraordinary wildlife and brilliant beaches – the sub-continent has it all! \n
URL:https://www.peregrinetraveladelaide.com.au/event/india-and-sri-lanka-evening/
LOCATION:Peregrine Travel Centre Adelaide\, 192 Rundle Street\, Adelaide\, SA\, 5000\, AU
ATTACH;FMTTYPE=image/png:https://www.peregrinetraveladelaide.com.au/wp-content/uploads/2016/05/25501271991-21188024.png
END:VEVENT
END:VCALENDAR