BEGIN:VCALENDAR
VERSION:2.0
PRODID:-//Peregrine Travel Centre - ECPv4.9.6//NONSGML v1.0//EN
CALSCALE:GREGORIAN
METHOD:PUBLISH
X-WR-CALNAME:Peregrine Travel Centre
X-ORIGINAL-URL:https://www.peregrinetraveladelaide.com.au
X-WR-CALDESC:Events for Peregrine Travel Centre
BEGIN:VTIMEZONE
TZID:"Australia/Adelaide"
BEGIN:STANDARD
TZOFFSETFROM:+1030
TZOFFSETTO:+0930
TZNAME:ACST
DTSTART:20160402T163000
END:STANDARD
BEGIN:DAYLIGHT
TZOFFSETFROM:+0930
TZOFFSETTO:+1030
TZNAME:ACDT
DTSTART:20161001T163000
END:DAYLIGHT
END:VTIMEZONE
BEGIN:VEVENT
DTSTART;TZID="Australia/Adelaide":20161123T180000
DTEND;TZID="Australia/Adelaide":20161123T190000
DTSTAMP:20260422T084648
CREATED:20161005T030129Z
LAST-MODIFIED:20161005T030212Z
UID:144246-1479924000-1479927600@www.peregrinetraveladelaide.com.au
SUMMARY:India in Style Free Information Night
DESCRIPTION:Join Peregrine Travel Centre and Wandering the World for this informative presentation on travelling to India – in Style. \nDiscover the mystical country that is India on this private luxury tour\, escorted from Adelaide by Bronny Tudor of Peregrine Travel. Walk in the footsteps of royalty\, exploring the lavish palaces and historical forts that symbolise the culture and traditions of evocative India. \nIndia from the very first moment will overwhelm your senses. The eclectic mix of sights\, sounds\, smells and spirituality make it a country like no other. The warm friendly people and the diverse landscapes from tropical beach paradises to desert expanses are only the start. India is embracing its new found prosperity and becoming more of a modern dynamic country. It is still\, however encapsulated strongly in the past. Such a rich and vast history\, contrasts with the new.  The colourful streets\, bustling bazaars\, majestic forts and the occasional cow walking down the road makes for an exciting experience. \nWandering the World are passionate about offering their expertise and knowledge to ensure their travellers enjoy rich and authentic travelling experiences\, with a focus on being immersed in the local culture and uncovering the hidden gems of these fascinating destinations. Come along to this free information night and learn the best ways to experience India with Wandering the World and Peregrine Travel Centre. \n
URL:https://www.peregrinetraveladelaide.com.au/event/india-in-style-free-information-night/
LOCATION:Peregrine Travel Centre Adelaide\, 192 Rundle Street\, Adelaide\, SA\, 5000\, AU
ATTACH;FMTTYPE=image/png:https://www.peregrinetraveladelaide.com.au/wp-content/uploads/2016/10/28384206927-24767640.png
END:VEVENT
END:VCALENDAR