BEGIN:VCALENDAR
VERSION:2.0
PRODID:-//Peregrine Travel Centre - ECPv4.9.6//NONSGML v1.0//EN
CALSCALE:GREGORIAN
METHOD:PUBLISH
X-WR-CALNAME:Peregrine Travel Centre
X-ORIGINAL-URL:https://www.peregrinetraveladelaide.com.au
X-WR-CALDESC:Events for Peregrine Travel Centre
BEGIN:VTIMEZONE
TZID:"Australia/Adelaide"
BEGIN:STANDARD
TZOFFSETFROM:+1030
TZOFFSETTO:+0930
TZNAME:ACST
DTSTART:20180331T163000
END:STANDARD
BEGIN:DAYLIGHT
TZOFFSETFROM:+0930
TZOFFSETTO:+1030
TZNAME:ACDT
DTSTART:20181006T163000
END:DAYLIGHT
END:VTIMEZONE
BEGIN:VEVENT
DTSTART;TZID="Australia/Adelaide":20180911T173000
DTEND;TZID="Australia/Adelaide":20180911T183000
DTSTAMP:20260422T102745
CREATED:20180828T012901Z
LAST-MODIFIED:20180828T060009Z
UID:508164-1536687000-1536690600@www.peregrinetraveladelaide.com.au
SUMMARY:Insiders Guide to Japan
DESCRIPTION:\n\nAn incredible destination with so much to offer travellers all year round\, Japan is right on the top of our travel bucket lists for 2019! Whether you’re wanting to experience the beautiful cherry blossom season\, looking at a getaway for the family during school holidays\, wanting to hit the slopes and have an epic winter adventure or you love the idea of taking in the gorgeous autumn colours – now is the time to start planning and locking in your 2019 Japan travel plans! \nOur friends at InsideJapan are the experts\, and we have one of their travel consultants John Todd\, visiting us to give you the experts guide to visiting this unique destination. John has recently visited Japan and will have the latest tips and advice to help you make the most of your travels. \nInsideJapan offer a great range of small group tours\, however if you’d prefer to explore Japan at your own pace we can tailor an independent itinerary (or self guided) trip perfect for your budget\, interests and timeframe! \nAttendees will be able to take advantage of an EXCLUSIVE SPECIAL OFFER on the night! \nWhen: Tuesday 11 September 2018\nWhere: Peregrine Travel Centre SA\, 142 Gawler Place Adelaide\nTime: 5:30pm for a 5:45pm start \nThis is a FREE event\, however places are limited. Please register your interest to attend. \n\n\n
URL:https://www.peregrinetraveladelaide.com.au/event/insiders-guide-to-japan/
LOCATION:Peregrine Travel Centre Adelaide\, 142 Gawler Place\, ADELAIDE\, SA\, 5000\, Australia
ATTACH;FMTTYPE=image/jpeg:https://www.peregrinetraveladelaide.com.au/wp-content/uploads/2018/08/Eventbritephoto.jpg
END:VEVENT
END:VCALENDAR