BEGIN:VCALENDAR
VERSION:2.0
PRODID:-//Peregrine Travel Centre - ECPv4.9.6//NONSGML v1.0//EN
CALSCALE:GREGORIAN
METHOD:PUBLISH
X-WR-CALNAME:Peregrine Travel Centre
X-ORIGINAL-URL:https://www.peregrinetraveladelaide.com.au
X-WR-CALDESC:Events for Peregrine Travel Centre
BEGIN:VTIMEZONE
TZID:"Australia/Adelaide"
BEGIN:STANDARD
TZOFFSETFROM:+1030
TZOFFSETTO:+0930
TZNAME:ACST
DTSTART:20150404T163000
END:STANDARD
BEGIN:DAYLIGHT
TZOFFSETFROM:+0930
TZOFFSETTO:+1030
TZNAME:ACDT
DTSTART:20151003T163000
END:DAYLIGHT
END:VTIMEZONE
BEGIN:VEVENT
DTSTART;TZID="Australia/Adelaide":20150902T183000
DTEND;TZID="Australia/Adelaide":20150902T193000
DTSTAMP:20260419T223248
CREATED:20150714T162418Z
LAST-MODIFIED:20150817T023312Z
UID:5035-1441218600-1441222200@www.peregrinetraveladelaide.com.au
SUMMARY:Free Polar Travel Information Night
DESCRIPTION:Join Peregrine expedition leaders as we present the many amazing polar expeditions available with Peregrine. Come and explore this spectacular landscape of rock and ice\, home to a rich range of breath-taking wildlife. \n
URL:https://www.peregrinetraveladelaide.com.au/event/polar-free-travel-information-night/
LOCATION:Majestic Roof Garden Hotel\, 55 Frome Sreet\, Adelaide\, SA\, 5000\, AU
ATTACH;FMTTYPE=image/jpeg:https://www.peregrinetraveladelaide.com.au/wp-content/uploads/2015/07/polarft.jpg
END:VEVENT
END:VCALENDAR