BEGIN:VCALENDAR
VERSION:2.0
PRODID:-//Peregrine Travel Centre - ECPv4.9.6//NONSGML v1.0//EN
CALSCALE:GREGORIAN
METHOD:PUBLISH
X-WR-CALNAME:Peregrine Travel Centre
X-ORIGINAL-URL:https://www.peregrinetraveladelaide.com.au
X-WR-CALDESC:Events for Peregrine Travel Centre
BEGIN:VTIMEZONE
TZID:"Australia/Adelaide"
BEGIN:STANDARD
TZOFFSETFROM:+1030
TZOFFSETTO:+0930
TZNAME:ACST
DTSTART:20170401T163000
END:STANDARD
BEGIN:DAYLIGHT
TZOFFSETFROM:+0930
TZOFFSETTO:+1030
TZNAME:ACDT
DTSTART:20170930T163000
END:DAYLIGHT
END:VTIMEZONE
BEGIN:VEVENT
DTSTART;TZID="Australia/Adelaide":20170329T180000
DTEND;TZID="Australia/Adelaide":20170329T190000
DTSTAMP:20260420T171018
CREATED:20170301T234024Z
LAST-MODIFIED:20170301T234355Z
UID:346436-1490810400-1490814000@www.peregrinetraveladelaide.com.au
SUMMARY:Small Ship Cruising with Wild Earth Travel
DESCRIPTION:Small ship cruises offer authentic experiences to the world’s most interesting destinations\, and no one knows small ship cruising better than Wild Earth Travel! \nJoin Aaron Russ from Wild Earth travel as he showcases some incredible cruises. \nWhich destinations? We want YOU to decide the topic! \nScotland? The Americas? Alaska? We want to know where in the world you are wanting to go on a small ship cruise! Let us know when you RSVP to attend and on the night Aaron will talk about the most popular destinations. \nAaron is the Founder of Wild Earth Travel and he is one of the World’s foremost experts on small ship and expedition cruising. \nLimited to 20 places – RSVP essential\n6.00pm start\, tea and coffee provided\n \n
URL:https://www.peregrinetraveladelaide.com.au/event/small-ship-cruising-with-wild-earth-travel/
LOCATION:Peregrine Travel Centre Adelaide\, 192 Rundle Street\, Adelaide\, SA\, 5000\, Australia
ATTACH;FMTTYPE=image/jpeg:https://www.peregrinetraveladelaide.com.au/wp-content/uploads/2017/03/32455113117-28809208-2.jpg
END:VEVENT
END:VCALENDAR