BEGIN:VCALENDAR
VERSION:2.0
PRODID:-//Peregrine Travel Centre - ECPv4.9.6//NONSGML v1.0//EN
CALSCALE:GREGORIAN
METHOD:PUBLISH
X-WR-CALNAME:Peregrine Travel Centre
X-ORIGINAL-URL:https://www.peregrinetraveladelaide.com.au
X-WR-CALDESC:Events for Peregrine Travel Centre
BEGIN:VTIMEZONE
TZID:"Australia/Adelaide"
BEGIN:STANDARD
TZOFFSETFROM:+1030
TZOFFSETTO:+0930
TZNAME:ACST
DTSTART:20180331T163000
END:STANDARD
BEGIN:DAYLIGHT
TZOFFSETFROM:+0930
TZOFFSETTO:+1030
TZNAME:ACDT
DTSTART:20181006T163000
END:DAYLIGHT
END:VTIMEZONE
BEGIN:VEVENT
DTSTART;TZID="Australia/Adelaide":20180501T180000
DTEND;TZID="Australia/Adelaide":20180501T190000
DTSTAMP:20260422T084648
CREATED:20180326T012951Z
LAST-MODIFIED:20180326T013034Z
UID:489742-1525197600-1525201200@www.peregrinetraveladelaide.com.au
SUMMARY:Small Ship & Expedition Cruising in 2019
DESCRIPTION:Small ship cruises offer authentic experiences to the world’s most interesting destinations\, and no one knows small ship cruising better than Wild Earth Travel! Join Aaron Russ from Wild Earth travel as he showcases some incredible cruises. \nFrom the rugged coast of Scotland and the natural wonders of Iceland – to the majestic seas of the Arctic and the gorgeous blues of the Mediterranean. Wild Earth can take you to every corner of the world! Aaron will share with you some of his favourite itineraries departing in 2019 as well as answer any questions you have about small ship cruising on particular destinations. \nWhen you RSVP to attend you have the option to submit a destination you would like to hear more about and Aaron will talk about the most popular destinations. \nAaron is the Founder of Wild Earth Travel and he is one of the World’s foremost experts on small ship and expedition cruising. \nLimited places available – RSVP essential\n5:45pm for a 6.00pm start\, tea and coffee provided \n
URL:https://www.peregrinetraveladelaide.com.au/event/small-ship-expedition-cruising-in-2019/
LOCATION:Peregrine Travel Centre SA\, 142 Gawler Place\, Adelaide\, SA\, 5000\, Australia
ATTACH;FMTTYPE=image/jpeg:https://www.peregrinetraveladelaide.com.au/wp-content/uploads/2018/03/44468782325-42610992-1.jpg
END:VEVENT
END:VCALENDAR