BEGIN:VCALENDAR
VERSION:2.0
PRODID:-//Peregrine Travel Centre - ECPv4.9.6//NONSGML v1.0//EN
CALSCALE:GREGORIAN
METHOD:PUBLISH
X-WR-CALNAME:Peregrine Travel Centre
X-ORIGINAL-URL:https://www.peregrinetraveladelaide.com.au
X-WR-CALDESC:Events for Peregrine Travel Centre
BEGIN:VTIMEZONE
TZID:"Australia/Adelaide"
BEGIN:STANDARD
TZOFFSETFROM:+1030
TZOFFSETTO:+0930
TZNAME:ACST
DTSTART:20170401T163000
END:STANDARD
BEGIN:DAYLIGHT
TZOFFSETFROM:+0930
TZOFFSETTO:+1030
TZNAME:ACDT
DTSTART:20170930T163000
END:DAYLIGHT
END:VTIMEZONE
BEGIN:VEVENT
DTSTART;TZID="Australia/Adelaide":20170830T180000
DTEND;TZID="Australia/Adelaide":20170830T190000
DTSTAMP:20260420T183654
CREATED:20170810T050946Z
LAST-MODIFIED:20170810T051043Z
UID:438248-1504116000-1504119600@www.peregrinetraveladelaide.com.au
SUMMARY:UK Classical Music Tour - Information session
DESCRIPTION:Join Cathy Elliott as she takes you through this magnificent itinerary we have put together. This special\, one-off\, Peregrine Travel Centre journey will take you on an extensive tour of England and Scotland. You will explore bustling cities\, travel through quaint villages across rolling hills\, discover pre-historic sites and marvel at natural and manmade wonders as you travel from Land’s End to the Highlands of Scotland. \nThis is an opportunity for people to come along\, meet Cathy who will be escorting the tour\, get an understanding of the itinerary and all of the amazing inclusions and ask any questions you may have about this small group tour. \nWe will also have exclusive specials available to those who come along on the night! \nVisit our website to find out more about the tour. \n
URL:https://www.peregrinetraveladelaide.com.au/event/uk-classical-music-tour-information-session/
LOCATION:Peregrine Travel Centre Adelaide\, Level 1 / 192 Rundle Street\, Adelaide\, SA\, 5000\, Australia
ATTACH;FMTTYPE=image/jpeg:https://www.peregrinetraveladelaide.com.au/wp-content/uploads/2017/08/36919202328-34090201-1.jpg
END:VEVENT
END:VCALENDAR